BEGIN:VCALENDAR
VERSION:2.0
BEGIN:VEVENT
TZID:Europe/Paris
UID:1bc68806-a88f-47cb-9fae-c50b960d23e2
SUMMARY:Zoé Brisby à Limoges
DTSTAMP:20260605T080000
DTSTART:20260605T080000
DTEND:20260607T160000
DESCRIPTION:Rencontre et dédicace au salon Lire à Limoges.Pour plus d'informations\, rendez-vous sur : https://lire.limoges.fr/
LOCATION:Limoges\, 87000 Limoges
END:VEVENT
END:VCALENDAR