BEGIN:VCALENDAR
VERSION:2.0
BEGIN:VEVENT
TZID:Europe/Paris
UID:283a799a-eb5b-465d-8322-743f86741b95
SUMMARY:Zoé Brisby à Montaigu
DTSTAMP:20260508T080000
DTSTART:20260508T080000
DTEND:20260510T160000
DESCRIPTION:Rencontre et dédicace au Printemps du livre de Montaigu.Pour plus d'informations\, rendez-vous sur : https://printempsdulivre.terresdemontaigu.fr/
LOCATION:Montaigu-Vendée\, 85146 Montaigu-Vendée
END:VEVENT
END:VCALENDAR