BEGIN:VCALENDAR
VERSION:2.0
BEGIN:VEVENT
TZID:Europe/Paris
UID:21ec9599-6a50-4875-b0c1-362cf1614f58
SUMMARY:Mélissa Da Costa à Basse-Goulaine
DTSTAMP:20260602T160000
DTSTART:20260602T160000
DTEND:20260602T170000
DESCRIPTION:Rencontre et dédicace à l'Espace culturel Leclerc dans le cadre du Festival Culturissimo.Horaire à préciser.Pour plus d'informations\, rendez-vous à ce lien.
LOCATION:Rte de Clisson\, 44115 Basse-Goulaine
END:VEVENT
END:VCALENDAR