BEGIN:VCALENDAR
VERSION:2.0
BEGIN:VEVENT
TZID:Europe/Paris
UID:d6be08bb-022f-407c-b2d5-3717dd0f6909
SUMMARY:Mélissa Da Costa à Poitiers
DTSTAMP:20260604T160000
DTSTART:20260604T160000
DTEND:20260604T170000
DESCRIPTION:Rencontre et dédicace à la librairie Gibert Joseph.Horaire à préciserPour plus d'informations\, rendez-vous à ce lien.
LOCATION:7 rue Gambetta\, 86000 Poitiers
END:VEVENT
END:VCALENDAR