BEGIN:VCALENDAR
VERSION:2.0
BEGIN:VEVENT
TZID:Europe/Paris
UID:41fd8cc8-f766-490b-b26f-bfba7cdfadc5
SUMMARY:Emilie Querbalec à Rennes
DTSTAMP:20260424T150000
DTSTART:20260424T150000
DTEND:20260424T160000
DESCRIPTION:Rencontre et dédicace à la Librairie Critic.Pour plus d'informations\, rendez-vous sur : www.librairie-critic.fr
LOCATION:19 Rue Hoche\, 35000 Rennes
END:VEVENT
END:VCALENDAR