BEGIN:VCALENDAR
VERSION:2.0
BEGIN:VEVENT
TZID:Europe/Paris
UID:9d8be8c7-f5b9-4451-acd2-00a8500c2794
SUMMARY:Franck Bouysse à Châteauroux
DTSTAMP:20260424T080000
DTSTART:20260424T080000
DTEND:20260426T160000
DESCRIPTION:Rencontre et dédicace au salon du livre Envolée des livres.Pour plus d'informations\, rendez-vous à ce lien.
LOCATION:Châteauroux\, 36000 Châteauroux
END:VEVENT
END:VCALENDAR