BEGIN:VCALENDAR
VERSION:2.0
BEGIN:VEVENT
TZID:Europe/Paris
UID:a3e9e104-cbe8-4bb5-820f-e685eb8bfee7
SUMMARY:Ingrid Glowacki à Châteauroux
DTSTAMP:20260424T080000
DTSTART:20260424T080000
DTEND:20260424T090000
DESCRIPTION:Rencontre et dédicace au salon du livre Envolée des livres.Pour plus d'informations\, rendez-vous à ce lien.
LOCATION:Châteauroux\, 36000 Châteauroux
END:VEVENT
END:VCALENDAR